BEGIN:VCALENDAR
VERSION:2.0
PRODID:-//Technology Vegas - ECPv6.6.4.2//NONSGML v1.0//EN
CALSCALE:GREGORIAN
METHOD:PUBLISH
X-WR-CALNAME:Technology Vegas
X-ORIGINAL-URL:https://technologyvegas.com
X-WR-CALDESC:Events for Technology Vegas
REFRESH-INTERVAL;VALUE=DURATION:PT1H
X-Robots-Tag:noindex
X-PUBLISHED-TTL:PT1H
BEGIN:VTIMEZONE
TZID:America/Los_Angeles
BEGIN:DAYLIGHT
TZOFFSETFROM:-0800
TZOFFSETTO:-0700
TZNAME:PDT
DTSTART:20230312T100000
END:DAYLIGHT
BEGIN:STANDARD
TZOFFSETFROM:-0700
TZOFFSETTO:-0800
TZNAME:PST
DTSTART:20231105T090000
END:STANDARD
END:VTIMEZONE
BEGIN:VEVENT
DTSTART;TZID=America/Los_Angeles:20230602T083000
DTEND;TZID=America/Los_Angeles:20230602T130000
DTSTAMP:20260420T041806
CREATED:20230602T194229Z
LAST-MODIFIED:20230602T194229Z
UID:1861-1685694600-1685710800@technologyvegas.com
SUMMARY:1st Annual LIFTing Women in Business
DESCRIPTION:We are excited to showcase successful local female entrepreneurs to learn from their vast experience in activating teams and reaching customers. \nDEVELOP CRUCIAL SKILLS WHILE SOLVING BUSINESS ISSUES \nIdentify your network\nTake steps towards personal transformation\nLearn how transformation and technology create synergy\nBuild relationships for innovative collaboration\nJoin us to learn from the amazing stories of our guest entrepreneurs and keynote speaker\, develop crucial skills for business and network with a group of amazing entrepreneurs!
URL:https://technologyvegas.com/event/1st-annual-lifting-women-in-business/
LOCATION:Vu Studios\, 901 Grier Dr\, Las Vegas\, NV\, 89118\, United States
CATEGORIES:Community,Networking,Social,Technical Skill Development
ATTACH;FMTTYPE=image/png:https://technologyvegas.com/wp-content/uploads/2023/06/Screen-Shot-2023-06-02-at-12.30.17-PM.png
END:VEVENT
BEGIN:VEVENT
DTSTART;TZID=America/Los_Angeles:20230602T180000
DTEND;TZID=America/Los_Angeles:20230602T200000
DTSTAMP:20260420T041806
CREATED:20230602T174337Z
LAST-MODIFIED:20230602T174337Z
UID:1824-1685728800-1685736000@technologyvegas.com
SUMMARY:LevelUp: A Night to Elevate StartUps
DESCRIPTION:LevelUp is an event for people that are interested in technology\, startups\, entrepreneurship\, community building\, and networking in the Las Vegas Valley. LevelUp gives an opportunity to startup founders to present their companies to the community with immediate feedback\, support\, and mentorship from a panel of successful investors\, entrepreneurs and other ecosystem leaders. The goal is to elevate each participant to the next level. \nPanelist will hear presentations from local startups and then give feedback\, ask questions\, and guidance to founders on possible immediate next steps. \nIn addition to watching presentations\, attendees will have the opportunity to network with other participants. It’s an evening to learn\, connect\, support\, share\, mentor\, and inspire one another. \nLevelUp is free and open to anyone interested in entrepreneurship regardless of their background or the stage of their company. We aim to facilitate a friendly and encouraging environment. \nThis event will be held periodically and will help grow the ecosystem by bringing the entrepreneur communities together to share entrepreneurial excitement\, energy\, and encouragement.
URL:https://technologyvegas.com/event/levelup-a-night-to-elevate-startups/
LOCATION:WeWork Office Space & Coworking\, 6543 S Las Vegas Blvd\, Las Vegas\, NV\, 89119\, United States
CATEGORIES:Networking,Startup Event,Technical Skill Development
ATTACH;FMTTYPE=image/png:https://technologyvegas.com/wp-content/uploads/2023/06/Screen-Shot-2023-06-02-at-10.38.42-AM.png
ORGANIZER;CN="Piotr Tomasik &amp%3B  Heather Brown":MAILTO:contact@startup.vegas
END:VEVENT
END:VCALENDAR